BEGIN:VCALENDAR
VERSION:2.0
PRODID:-//eplearningplace.org//NONSGML kigkonsult.se iCalcreator 2.30.10//
CALSCALE:GREGORIAN
METHOD:PUBLISH
UID:a0ab8a30-f533-4bd1-8209-21cce368e88f
X-WR-CALDESC:The Conference Room at The Learning Place
X-WR-RELCALID:3e344f398966c56d9791d6dad70412a6
X-WR-TIMEZONE:America/Denver
BEGIN:VTIMEZONE
TZID:America/Denver
BEGIN:STANDARD
TZNAME:MST
DTSTART:20251102T020000
TZOFFSETFROM:-0600
TZOFFSETTO:-0700
RDATE:20261101T020000
RDATE:20271107T020000
END:STANDARD
BEGIN:DAYLIGHT
TZNAME:MDT
DTSTART:20260308T020000
TZOFFSETFROM:-0700
TZOFFSETTO:-0600
RDATE:20270314T020000
END:DAYLIGHT
END:VTIMEZONE
BEGIN:VEVENT
UID:1e92dbfb-41e3-4f86-81e8-70e67131d8c0
DTSTAMP:20260421T092010Z
DESCRIPTION:The Conference Room at The Learning Place
DTSTART;TZID=America/Denver:20260622T120000
DTEND;TZID=America/Denver:20260622T130000
LOCATION:600 S Saint Vrain Ave\, Unit 2\, Estes Park\, CO 80517 US
SUMMARY:EPLP Staff Meeting
END:VEVENT
END:VCALENDAR
