BEGIN:VCALENDAR
VERSION:2.0
PRODID:-//eplearningplace.org//NONSGML kigkonsult.se iCalcreator 2.30.10//
CALSCALE:GREGORIAN
METHOD:PUBLISH
UID:8160d3b5-1001-4f62-9a9f-2f540a08fb36
X-WR-CALDESC:The Conference Room at The Learning Place
X-WR-RELCALID:c2a09908fd198af9fdf191b379d2ff91
X-WR-TIMEZONE:America/Denver
BEGIN:VTIMEZONE
TZID:America/Denver
BEGIN:STANDARD
TZNAME:MST
DTSTART:20251102T020000
TZOFFSETFROM:-0600
TZOFFSETTO:-0700
RDATE:20261101T020000
RDATE:20271107T020000
END:STANDARD
BEGIN:DAYLIGHT
TZNAME:MDT
DTSTART:20260308T020000
TZOFFSETFROM:-0700
TZOFFSETTO:-0600
RDATE:20270314T020000
END:DAYLIGHT
END:VTIMEZONE
BEGIN:VEVENT
UID:6e024952-f0d7-49a7-a1e2-81424239ea0a
DTSTAMP:20260419T130614Z
DESCRIPTION:The Conference Room at The Learning Place
DTSTART;TZID=America/Denver:20260525T120000
DTEND;TZID=America/Denver:20260525T130000
LOCATION:600 S Saint Vrain Ave\, Unit 2\, Estes Park\, CO 80517 US
SUMMARY:EPLP Staff Meeting
END:VEVENT
END:VCALENDAR
