BEGIN:VCALENDAR
VERSION:2.0
PRODID:-//eplearningplace.org//NONSGML kigkonsult.se iCalcreator 2.30.10//
CALSCALE:GREGORIAN
METHOD:PUBLISH
UID:9fafad9f-1498-4c8f-a9ca-8b4324ca0ea2
X-WR-CALDESC:The Conference Room at The Learning Place
X-WR-RELCALID:b627d47199e29dfb5f8cd8b538309c44
X-WR-TIMEZONE:America/Denver
BEGIN:VTIMEZONE
TZID:America/Denver
BEGIN:STANDARD
TZNAME:MST
DTSTART:20251102T020000
TZOFFSETFROM:-0600
TZOFFSETTO:-0700
RDATE:20261101T020000
END:STANDARD
BEGIN:DAYLIGHT
TZNAME:MDT
DTSTART:20250309T020000
TZOFFSETFROM:-0700
TZOFFSETTO:-0600
RDATE:20260308T020000
RDATE:20270314T020000
END:DAYLIGHT
END:VTIMEZONE
BEGIN:VEVENT
UID:5dd2a8ca-7561-4a58-a2cc-3553e7773e36
DTSTAMP:20260421T105215Z
DESCRIPTION:The Conference Room at The Learning Place
DTSTART;TZID=America/Denver:20260223T120000
DTEND;TZID=America/Denver:20260223T130000
LOCATION:600 S Saint Vrain Ave\, Unit 2\, Estes Park\, CO 80517 US
SUMMARY:EPLP Staff Meeting
END:VEVENT
END:VCALENDAR
