BEGIN:VCALENDAR
VERSION:2.0
PRODID:-//eplearningplace.org//NONSGML kigkonsult.se iCalcreator 2.30.10//
CALSCALE:GREGORIAN
METHOD:PUBLISH
UID:40838ba8-69f9-41ff-ad86-a0f40a1bc296
X-WR-CALDESC:The Conference Room at The Learning Place
X-WR-RELCALID:fc80e4c280ff6623a458af7f5f78776e
X-WR-TIMEZONE:America/Denver
BEGIN:VTIMEZONE
TZID:America/Denver
BEGIN:STANDARD
TZNAME:MST
DTSTART:20251102T020000
TZOFFSETFROM:-0600
TZOFFSETTO:-0700
RDATE:20261101T020000
END:STANDARD
BEGIN:DAYLIGHT
TZNAME:MDT
DTSTART:20250309T020000
TZOFFSETFROM:-0700
TZOFFSETTO:-0600
RDATE:20260308T020000
RDATE:20270314T020000
END:DAYLIGHT
END:VTIMEZONE
BEGIN:VEVENT
UID:ebfc7999-a8f5-46d5-81ac-7af7b958bfe1
DTSTAMP:20260422T091004Z
DESCRIPTION:The Conference Room at The Learning Place
DTSTART;TZID=America/Denver:20251222T120000
DTEND;TZID=America/Denver:20251222T130000
LOCATION:600 S Saint Vrain Ave\, Unit 2\, Estes Park\, CO 80517 US
SUMMARY:EPLP Staff Meeting
END:VEVENT
END:VCALENDAR
