BEGIN:VCALENDAR
VERSION:2.0
PRODID:-//eplearningplace.org//NONSGML kigkonsult.se iCalcreator 2.30.10//
CALSCALE:GREGORIAN
METHOD:PUBLISH
UID:fce6d2e2-a354-418e-a42c-a31b85037563
X-WR-CALDESC:Family Cafe will be held in September\, October\, November of 
 2025 and again January through April 2026. \nWe gather for dinner at 5:30 
 and the Learning Activities usually begin before 6pm-7pm.\nHere are our da
 tes and Topics:\nSeptember 30th: Camping\nOctober 28th: Fish\nNovember 25:
  Mining/Gold Rush\nJanuary 27th: Famous Men in History\nFebruary 24th: Pup
 petry\nMarch 31st: Pets\nApril 28th: Flowers\nWe are holding Family Cafe t
 his year at the Estes Park United Methodist Church out on Fish Hatchery Ro
 ad. EPUMC has provided us with the grant for this years Family Cafe.
X-WR-RELCALID:756ab03af2647c34dabedc51ebd8e40f
X-WR-TIMEZONE:America/Denver
BEGIN:VTIMEZONE
TZID:America/Denver
BEGIN:STANDARD
TZNAME:MST
DTSTART:20241103T020000
TZOFFSETFROM:-0600
TZOFFSETTO:-0700
RDATE:20251102T020000
RDATE:20261101T020000
END:STANDARD
BEGIN:DAYLIGHT
TZNAME:MDT
DTSTART:20250309T020000
TZOFFSETFROM:-0700
TZOFFSETTO:-0600
RDATE:20260308T020000
RDATE:20270314T020000
END:DAYLIGHT
END:VTIMEZONE
BEGIN:VEVENT
UID:0eed316f-28c2-4a55-8330-520db0be8a0a
DTSTAMP:20260422T091949Z
DESCRIPTION:Family Cafe will be held in September\, October\, November of 2
 025 and again January through April 2026. \nWe gather for dinner at 5:30 a
 nd the Learning Activities usually begin before 6pm-7pm.\nHere are our dat
 es and Topics:\nSeptember 30th: Camping\nOctober 28th: Fish\nNovember 25: 
 Mining/Gold Rush\nJanuary 27th: Famous Men in History\nFebruary 24th: Pupp
 etry\nMarch 31st: Pets\nApril 28th: Flowers\nWe are holding Family Cafe th
 is year at the Estes Park United Methodist Church out on Fish Hatchery Roa
 d. EPUMC has provided us with the grant for this years Family Cafe.
DTSTART;TZID=America/Denver:20250930T053000
DTEND;TZID=America/Denver:20250930T190000
LOCATION:Estes Park United Methodist Church  \, 1509 Fish Hatchery Road\, E
 stes Park\, CO 80517 US
SUMMARY:Family Cafe
END:VEVENT
END:VCALENDAR
