BEGIN:VCALENDAR
VERSION:2.0
PRODID:-//eplearningplace.org//NONSGML kigkonsult.se iCalcreator 2.30.10//
CALSCALE:GREGORIAN
METHOD:PUBLISH
UID:84b35e04-bbd5-43e2-8c53-98a08d2d38b6
X-WR-CALDESC:Board Meeting in Conference Room at The Learning Place
X-WR-RELCALID:2eddf1881c73558937799fe0dd9471d1
X-WR-TIMEZONE:America/Denver
BEGIN:VTIMEZONE
TZID:America/Denver
BEGIN:STANDARD
TZNAME:MST
DTSTART:20241103T020000
TZOFFSETFROM:-0600
TZOFFSETTO:-0700
RDATE:20251102T020000
RDATE:20261101T020000
END:STANDARD
BEGIN:DAYLIGHT
TZNAME:MDT
DTSTART:20250309T020000
TZOFFSETFROM:-0700
TZOFFSETTO:-0600
RDATE:20260308T020000
END:DAYLIGHT
END:VTIMEZONE
BEGIN:VEVENT
UID:efbea0e9-81ac-45b6-9f79-fa97c9e966dd
DTSTAMP:20260422T113531Z
DESCRIPTION:Board Meeting in Conference Room at The Learning Place
DTSTART;TZID=America/Denver:20250728T160000
DTEND;TZID=America/Denver:20250728T173000
LOCATION:600 S Saint Vrain Ave\, Unit 2\, Estes Park\, CO 80517 US
SUMMARY:EPLP Board of Directors Meeting
END:VEVENT
END:VCALENDAR
