BEGIN:VCALENDAR
VERSION:2.0
PRODID:-//eplearningplace.org//NONSGML kigkonsult.se iCalcreator 2.30.10//
CALSCALE:GREGORIAN
METHOD:PUBLISH
UID:ab7a73a7-1ffb-44cb-8a8b-6822e2d62186
X-WR-CALDESC:The Conference Room at The Learning Place
X-WR-RELCALID:7bee0f519d04052ff9d0cf1303e6f648
X-WR-TIMEZONE:America/Denver
BEGIN:VTIMEZONE
TZID:America/Denver
BEGIN:STANDARD
TZNAME:MST
DTSTART:20241103T020000
TZOFFSETFROM:-0600
TZOFFSETTO:-0700
RDATE:20251102T020000
RDATE:20261101T020000
END:STANDARD
BEGIN:DAYLIGHT
TZNAME:MDT
DTSTART:20250309T020000
TZOFFSETFROM:-0700
TZOFFSETTO:-0600
RDATE:20260308T020000
END:DAYLIGHT
END:VTIMEZONE
BEGIN:VEVENT
UID:1ea18549-7736-4774-81dc-b8f3356da73d
DTSTAMP:20260422T131114Z
DESCRIPTION:The Conference Room at The Learning Place
DTSTART;TZID=America/Denver:20250623T120000
DTEND;TZID=America/Denver:20250623T130000
LOCATION:600 S Saint Vrain Ave\, Unit 2\, Estes Park\, CO 80517 US
SUMMARY:EPLP Staff Meeting
END:VEVENT
END:VCALENDAR
