BEGIN:VCALENDAR
VERSION:2.0
PRODID:-//eplearningplace.org//NONSGML kigkonsult.se iCalcreator 2.30.10//
CALSCALE:GREGORIAN
METHOD:PUBLISH
UID:0bb7a1f2-778f-48ae-9bb0-deb677a026d7
X-WR-CALDESC:Board Meeting in Conference Room at The Learning Place
X-WR-RELCALID:f3c07be6fc3bca670ef1b290b38544ac
X-WR-TIMEZONE:America/Denver
BEGIN:VTIMEZONE
TZID:America/Denver
BEGIN:STANDARD
TZNAME:MST
DTSTART:20241103T020000
TZOFFSETFROM:-0600
TZOFFSETTO:-0700
RDATE:20251102T020000
RDATE:20261101T020000
END:STANDARD
BEGIN:DAYLIGHT
TZNAME:MDT
DTSTART:20250309T020000
TZOFFSETFROM:-0700
TZOFFSETTO:-0600
RDATE:20260308T020000
END:DAYLIGHT
END:VTIMEZONE
BEGIN:VEVENT
UID:aeff5d83-dd5c-40d4-b9bb-bd23f3bb2f7b
DTSTAMP:20260422T132610Z
DESCRIPTION:Board Meeting in Conference Room at The Learning Place
DTSTART;TZID=America/Denver:20250602T160000
DTEND;TZID=America/Denver:20250602T173000
LOCATION:600 S Saint Vrain Ave\, Unit 2\, Estes Park\, CO 80517 US
SUMMARY:EPLP Board of Directors Meeting
END:VEVENT
END:VCALENDAR
