BEGIN:VCALENDAR
VERSION:2.0
PRODID:-//eplearningplace.org//NONSGML kigkonsult.se iCalcreator 2.30.10//
CALSCALE:GREGORIAN
METHOD:PUBLISH
UID:c89cafc2-fb3a-4b6c-91f1-f8e9089410c7
X-WR-CALDESC:The Conference Room at The Learning Place
X-WR-RELCALID:f4fa4dbd04b1c4246e41c0aab025dd34
X-WR-TIMEZONE:America/Denver
BEGIN:VTIMEZONE
TZID:America/Denver
BEGIN:STANDARD
TZNAME:MST
DTSTART:20241103T020000
TZOFFSETFROM:-0600
TZOFFSETTO:-0700
RDATE:20251102T020000
RDATE:20261101T020000
END:STANDARD
BEGIN:DAYLIGHT
TZNAME:MDT
DTSTART:20250309T020000
TZOFFSETFROM:-0700
TZOFFSETTO:-0600
RDATE:20260308T020000
END:DAYLIGHT
END:VTIMEZONE
BEGIN:VEVENT
UID:5cccb72f-194d-44ef-b269-b34042aa4711
DTSTAMP:20260422T145709Z
DESCRIPTION:The Conference Room at The Learning Place
DTSTART;TZID=America/Denver:20250526T120000
DTEND;TZID=America/Denver:20250526T130000
LOCATION:600 S Saint Vrain Ave\, Unit 2\, Estes Park\, CO 80517 US
SUMMARY:EPLP Staff Meeting
END:VEVENT
END:VCALENDAR
