BEGIN:VCALENDAR
VERSION:2.0
PRODID:-//eplearningplace.org//NONSGML kigkonsult.se iCalcreator 2.30.10//
CALSCALE:GREGORIAN
METHOD:PUBLISH
UID:82506e5e-7935-43ca-93b3-68d742c805cb
X-WR-CALDESC:Wine with paired Appetizers\, 5:30pm. Mingle with our Tutoring
  Staff and Board of Directors\nDinner begins\, 6pm\n\nWe encourage you to 
 bring a guest you would like to introduce to the work of The Learning Plac
 e.
X-WR-RELCALID:b887b4754e4cfda7be59acbc1055640b
X-WR-TIMEZONE:America/Denver
BEGIN:VTIMEZONE
TZID:America/Denver
BEGIN:STANDARD
TZNAME:MST
DTSTART:20241103T020000
TZOFFSETFROM:-0600
TZOFFSETTO:-0700
RDATE:20251102T020000
RDATE:20261101T020000
END:STANDARD
BEGIN:DAYLIGHT
TZNAME:MDT
DTSTART:20250309T020000
TZOFFSETFROM:-0700
TZOFFSETTO:-0600
RDATE:20260308T020000
END:DAYLIGHT
END:VTIMEZONE
BEGIN:VEVENT
UID:5f04de05-faba-40de-a946-5b57eda7e0c8
DTSTAMP:20260422T145112Z
DESCRIPTION:Wine with paired Appetizers\, 5:30pm. Mingle with our Tutoring 
 Staff and Board of Directors\nDinner begins\, 6pm\n\nWe encourage you to b
 ring a guest you would like to introduce to the work of The Learning Place
 .
DTSTART;TZID=America/Denver:20250521T173000
DTEND;TZID=America/Denver:20250521T200000
LOCATION:Mama Rose's Restaurant\, 338 E Elkhoen Ave\, Estes Park\, CO 80517
  US
SUMMARY:Annual Community Wine Dinner
END:VEVENT
END:VCALENDAR
