BEGIN:VCALENDAR
VERSION:2.0
PRODID:-//eplearningplace.org//NONSGML kigkonsult.se iCalcreator 2.30.10//
CALSCALE:GREGORIAN
METHOD:PUBLISH
UID:23c4d523-8ddb-4a2b-9c52-0707719f8675
X-WR-CALDESC:Family Cafe is a monthly event bringing families together for 
 a meal and interactive learning activities for the whole family.  Our Last
  date this academic year will be Tuesday\, April 22. Our theme is All Arou
 nd the World and we hope to celebrate all the diversity in the Estes Valle
 y.\nThis will be a Potluck Dinner before the program.  \nIf your last name
  begins:\nA-H bring a salad\nI-P bring a main dish \nQ-Z bring a dessert\n
 Please do not bring any dishes with peanut or tree nuts\nWe would love for
  your dish to represent where you are from...or where you have visited in 
 the world\nPlease bring a copy of your recipe and we will compile them for
  everyone!\n
X-WR-RELCALID:26fa65e8191ae2bfc663e28573cf22c5
X-WR-TIMEZONE:America/Denver
BEGIN:VTIMEZONE
TZID:America/Denver
BEGIN:STANDARD
TZNAME:MST
DTSTART:20241103T020000
TZOFFSETFROM:-0600
TZOFFSETTO:-0700
RDATE:20251102T020000
END:STANDARD
BEGIN:DAYLIGHT
TZNAME:MDT
DTSTART:20250309T020000
TZOFFSETFROM:-0700
TZOFFSETTO:-0600
RDATE:20260308T020000
END:DAYLIGHT
END:VTIMEZONE
BEGIN:VEVENT
UID:1e96d6fe-9d2d-413a-a1c4-f818be7d3dfa
DTSTAMP:20260422T160857Z
DESCRIPTION:Family Cafe is a monthly event bringing families together for a
  meal and interactive learning activities for the whole family.  Our Last 
 date this academic year will be Tuesday\, April 22. Our theme is All Aroun
 d the World and we hope to celebrate all the diversity in the Estes Valley
 .\nThis will be a Potluck Dinner before the program.  \nIf your last name 
 begins:\nA-H bring a salad\nI-P bring a main dish \nQ-Z bring a dessert\nP
 lease do not bring any dishes with peanut or tree nuts\nWe would love for 
 your dish to represent where you are from...or where you have visited in t
 he world\nPlease bring a copy of your recipe and we will compile them for 
 everyone!\n
DTSTART;TZID=America/Denver:20250422T173000
DTEND;TZID=America/Denver:20250422T190000
LOCATION:1700 Brody Street\, Presbyterian Community Church of the Rockies\,
  Estes Park\, CO 80517 US
SUMMARY:Family Cafe - All Around The World
END:VEVENT
END:VCALENDAR
