BEGIN:VCALENDAR
VERSION:2.0
PRODID:-//eplearningplace.org//NONSGML kigkonsult.se iCalcreator 2.30.10//
CALSCALE:GREGORIAN
METHOD:PUBLISH
UID:d7c489d7-51ea-4080-911c-bda6180e76ea
X-WR-CALDESC:Family Cafe is a monthly event bringing families together for 
 a meal and interactive learning activities for the whole family.  \nCommun
 ity Church of the Rockies\, 1700 Brodie Ave\, Fellowship Hall instead of t
 he Learning Place\n
X-WR-RELCALID:aa51387172823f6f4b69884581eed331
X-WR-TIMEZONE:America/Denver
BEGIN:VTIMEZONE
TZID:America/Denver
BEGIN:STANDARD
TZNAME:MST
DTSTART:20241103T020000
TZOFFSETFROM:-0600
TZOFFSETTO:-0700
RDATE:20251102T020000
END:STANDARD
BEGIN:DAYLIGHT
TZNAME:MDT
DTSTART:20250309T020000
TZOFFSETFROM:-0700
TZOFFSETTO:-0600
RDATE:20260308T020000
END:DAYLIGHT
END:VTIMEZONE
BEGIN:VEVENT
UID:50a44620-d74a-477f-a791-ab76ab247bdb
DTSTAMP:20260422T175347Z
DESCRIPTION:Family Cafe is a monthly event bringing families together for a
  meal and interactive learning activities for the whole family.  \nCommuni
 ty Church of the Rockies\, 1700 Brodie Ave\, Fellowship Hall instead of th
 e Learning Place\n
DTSTART;TZID=America/Denver:20250325T173000
DTEND;TZID=America/Denver:20250325T190000
LOCATION:1700 Brody Street\, Presbyterian Community Church of the Rockies\,
  Estes Park\, CO 80517 US
SUMMARY:Family Cafe- Women in History
END:VEVENT
END:VCALENDAR
