BEGIN:VCALENDAR
VERSION:2.0
PRODID:-//eplearningplace.org//NONSGML kigkonsult.se iCalcreator 2.30.10//
CALSCALE:GREGORIAN
METHOD:PUBLISH
UID:ce358ee0-3f5e-4d18-8bbd-611b33b216fb
X-WR-CALDESC:Board Meeting in Conference Room at The Learning Place
X-WR-RELCALID:a685978c325cb394aaacdebf4e068345
X-WR-TIMEZONE:America/Denver
BEGIN:VTIMEZONE
TZID:America/Denver
BEGIN:STANDARD
TZNAME:MST
DTSTART:20241103T020000
TZOFFSETFROM:-0600
TZOFFSETTO:-0700
RDATE:20251102T020000
END:STANDARD
BEGIN:DAYLIGHT
TZNAME:MDT
DTSTART:20250309T020000
TZOFFSETFROM:-0700
TZOFFSETTO:-0600
RDATE:20260308T020000
END:DAYLIGHT
END:VTIMEZONE
BEGIN:VEVENT
UID:0c56f6e1-f3e9-41fe-ba95-4e2ad6a5b617
DTSTAMP:20260422T174843Z
DESCRIPTION:Board Meeting in Conference Room at The Learning Place
DTSTART;TZID=America/Denver:20250324T160000
DTEND;TZID=America/Denver:20250324T173000
LOCATION:600 S Saint Vrain Ave\, Unit 2\, Estes Park\, CO 80517 US
SUMMARY:EPLP Board of Directors Meeting
END:VEVENT
END:VCALENDAR
