BEGIN:VCALENDAR
VERSION:2.0
PRODID:-//eplearningplace.org//NONSGML kigkonsult.se iCalcreator 2.30.10//
CALSCALE:GREGORIAN
METHOD:PUBLISH
UID:c7f24d2d-2d25-486a-978d-4f9f51e626f8
X-WR-CALDESC:The Conference Room at The Learning Place
X-WR-RELCALID:cd48a65a490aea4f95bac0672a99a587
X-WR-TIMEZONE:America/Denver
BEGIN:VTIMEZONE
TZID:America/Denver
BEGIN:STANDARD
TZNAME:MST
DTSTART:20241103T020000
TZOFFSETFROM:-0600
TZOFFSETTO:-0700
RDATE:20251102T020000
END:STANDARD
BEGIN:DAYLIGHT
TZNAME:MDT
DTSTART:20250309T020000
TZOFFSETFROM:-0700
TZOFFSETTO:-0600
RDATE:20260308T020000
END:DAYLIGHT
END:VTIMEZONE
BEGIN:VEVENT
UID:ebf3f204-5fc1-4d5b-9880-e62a88aa60b5
DTSTAMP:20260422T175441Z
DESCRIPTION:The Conference Room at The Learning Place
DTSTART;TZID=America/Denver:20250324T120000
DTEND;TZID=America/Denver:20250324T130000
LOCATION:600 S Saint Vrain Ave\, Unit 2\, Estes Park\, CO 80517 US
SUMMARY:EPLP Staff Meeting
END:VEVENT
END:VCALENDAR
