BEGIN:VCALENDAR
VERSION:2.0
PRODID:-//eplearningplace.org//NONSGML kigkonsult.se iCalcreator 2.30.10//
CALSCALE:GREGORIAN
METHOD:PUBLISH
UID:cbe33565-1829-4dd1-b3f2-42a95b5fc1fc
X-WR-CALDESC:Family Cafe is a monthly event bringing families together for 
 a meal and interactive learning activities for the whole family.  Our date
 s this year are:\nSeptember 24\, 5:30-7pm\, Theme: Welcoming and Belonging
 \nOctober 22\nNovember 19\nDecember 17\nJanuary 21\nFebruary 25\nMarch 25 
 Week after spring Break - Theme: Women in History\nApril 22 week after Eas
 ter\nMay 20 Last week of school\nommunity CHurch of the Rockies\, Fellowsh
 ip Hall instead of the Learning Place\n
X-WR-RELCALID:527c5fd1ceb86961a1ca4c24bd41505e
X-WR-TIMEZONE:America/Denver
BEGIN:VTIMEZONE
TZID:America/Denver
BEGIN:STANDARD
TZNAME:MST
DTSTART:20241103T020000
TZOFFSETFROM:-0600
TZOFFSETTO:-0700
RDATE:20251102T020000
END:STANDARD
BEGIN:DAYLIGHT
TZNAME:MDT
DTSTART:20240310T020000
TZOFFSETFROM:-0700
TZOFFSETTO:-0600
RDATE:20250309T020000
RDATE:20260308T020000
END:DAYLIGHT
END:VTIMEZONE
BEGIN:VEVENT
UID:604d4e4f-a8de-4d43-9db7-2b26b63f9046
DTSTAMP:20260423T005750Z
DESCRIPTION:Family Cafe is a monthly event bringing families together for a
  meal and interactive learning activities for the whole family.  Our dates
  this year are:\nSeptember 24\, 5:30-7pm\, Theme: Welcoming and Belonging
 \nOctober 22\nNovember 19\nDecember 17\nJanuary 21\nFebruary 25\nMarch 25 
 Week after spring Break - Theme: Women in History\nApril 22 week after Eas
 ter\nMay 20 Last week of school\nommunity CHurch of the Rockies\, Fellowsh
 ip Hall instead of the Learning Place\n
DTSTART;TZID=America/Denver:20250128T173000
DTEND;TZID=America/Denver:20250128T190000
LOCATION:1700 Brody Street\, Presbyterian Community Church of the Rockies\,
  Estes Park\, CO 80517 US
SUMMARY:Family Cafe
END:VEVENT
END:VCALENDAR
