BEGIN:VCALENDAR
VERSION:2.0
PRODID:-//eplearningplace.org//NONSGML kigkonsult.se iCalcreator 2.30.10//
CALSCALE:GREGORIAN
METHOD:PUBLISH
UID:d0644075-5b92-4b58-a932-5eade87749e6
X-WR-CALDESC:The Conference Room at The Learning Place
X-WR-RELCALID:b4eb073c0395b5031d28440046deacc1
X-WR-TIMEZONE:America/Denver
BEGIN:VTIMEZONE
TZID:America/Denver
BEGIN:STANDARD
TZNAME:MST
DTSTART:20241103T020000
TZOFFSETFROM:-0600
TZOFFSETTO:-0700
RDATE:20251102T020000
END:STANDARD
BEGIN:DAYLIGHT
TZNAME:MDT
DTSTART:20240310T020000
TZOFFSETFROM:-0700
TZOFFSETTO:-0600
RDATE:20250309T020000
RDATE:20260308T020000
END:DAYLIGHT
END:VTIMEZONE
BEGIN:VEVENT
UID:00e7d71a-b744-4ede-83a7-88bcaa153688
DTSTAMP:20260422T204821Z
DESCRIPTION:The Conference Room at The Learning Place
DTSTART;TZID=America/Denver:20250127T120000
DTEND;TZID=America/Denver:20250127T130000
LOCATION:600 S Saint Vrain Ave\, Unit 2\, Estes Park\, CO 80517 US
SUMMARY:EPLP Staff Meeting
END:VEVENT
END:VCALENDAR
