BEGIN:VCALENDAR
VERSION:2.0
PRODID:-//eplearningplace.org//NONSGML kigkonsult.se iCalcreator 2.30.10//
CALSCALE:GREGORIAN
METHOD:PUBLISH
UID:8f320394-f366-4d74-a78d-8714b2071d65
X-WR-CALDESC:The Conference Room at The Learning Place
X-WR-RELCALID:f1d630e1449e193d31b796ecd07977f6
X-WR-TIMEZONE:America/Denver
BEGIN:VTIMEZONE
TZID:America/Denver
BEGIN:STANDARD
TZNAME:MST
DTSTART:20241103T020000
TZOFFSETFROM:-0600
TZOFFSETTO:-0700
RDATE:20251102T020000
END:STANDARD
BEGIN:DAYLIGHT
TZNAME:MDT
DTSTART:20240310T020000
TZOFFSETFROM:-0700
TZOFFSETTO:-0600
RDATE:20250309T020000
RDATE:20260308T020000
END:DAYLIGHT
END:VTIMEZONE
BEGIN:VEVENT
UID:f6e65dd7-0bfc-45df-a0dc-ad8384c8809c
DTSTAMP:20260422T222608Z
DESCRIPTION:The Conference Room at The Learning Place
DTSTART;TZID=America/Denver:20241223T120000
DTEND;TZID=America/Denver:20241223T130000
LOCATION:600 S Saint Vrain Ave\, Unit 2\, Estes Park\, CO 80517 US
SUMMARY:EPLP Staff Meeting
END:VEVENT
END:VCALENDAR
