BEGIN:VCALENDAR
VERSION:2.0
PRODID:-//eplearningplace.org//NONSGML kigkonsult.se iCalcreator 2.30.10//
CALSCALE:GREGORIAN
METHOD:PUBLISH
UID:5be4a0be-b706-4328-8050-ee089698f230
X-WR-CALDESC:Board Meeting in Conference Room at The Learning Place
X-WR-RELCALID:fc01881bc724f5f0fdc2594bb7f9b483
X-WR-TIMEZONE:America/Denver
BEGIN:VTIMEZONE
TZID:America/Denver
BEGIN:STANDARD
TZNAME:MST
DTSTART:20241103T020000
TZOFFSETFROM:-0600
TZOFFSETTO:-0700
RDATE:20251102T020000
END:STANDARD
BEGIN:DAYLIGHT
TZNAME:MDT
DTSTART:20240310T020000
TZOFFSETFROM:-0700
TZOFFSETTO:-0600
RDATE:20250309T020000
RDATE:20260308T020000
END:DAYLIGHT
END:VTIMEZONE
BEGIN:VEVENT
UID:0a4ca076-a0c1-43e4-93ad-8fb187b98aa6
DTSTAMP:20260422T235339Z
DESCRIPTION:Board Meeting in Conference Room at The Learning Place
DTSTART;TZID=America/Denver:20241125T160000
DTEND;TZID=America/Denver:20241125T173000
LOCATION:600 S Saint Vrain Ave\, Unit 2\, Estes Park\, CO 80517 US
SUMMARY:EPLP Board of Directors Meeting
END:VEVENT
END:VCALENDAR
