BEGIN:VCALENDAR
VERSION:2.0
PRODID:-//eplearningplace.org//NONSGML kigkonsult.se iCalcreator 2.30.10//
CALSCALE:GREGORIAN
METHOD:PUBLISH
UID:08dea394-f3b5-48fa-86a9-633d0eb41743
X-WR-CALDESC:The Conference Room at The Learning Place
X-WR-RELCALID:5732d8d4b27e963e37e31034b675b4d0
X-WR-TIMEZONE:America/Denver
BEGIN:VTIMEZONE
TZID:America/Denver
BEGIN:STANDARD
TZNAME:MST
DTSTART:20241103T020000
TZOFFSETFROM:-0600
TZOFFSETTO:-0700
RDATE:20251102T020000
END:STANDARD
BEGIN:DAYLIGHT
TZNAME:MDT
DTSTART:20240310T020000
TZOFFSETFROM:-0700
TZOFFSETTO:-0600
RDATE:20250309T020000
RDATE:20260308T020000
END:DAYLIGHT
END:VTIMEZONE
BEGIN:VEVENT
UID:df3c5320-92aa-44dd-93a3-f823b1415235
DTSTAMP:20260422T235058Z
DESCRIPTION:The Conference Room at The Learning Place
DTSTART;TZID=America/Denver:20241125T120000
DTEND;TZID=America/Denver:20241125T130000
LOCATION:600 S Saint Vrain Ave\, Unit 2\, Estes Park\, CO 80517 US
SUMMARY:EPLP Staff Meeting
END:VEVENT
END:VCALENDAR
