BEGIN:VCALENDAR
VERSION:2.0
PRODID:-//eplearningplace.org//NONSGML kigkonsult.se iCalcreator 2.30.10//
CALSCALE:GREGORIAN
METHOD:PUBLISH
UID:667107e6-fd00-4894-a252-76ad75acb15f
X-WR-CALDESC:Family Cafe is a monthly event bringing families together for 
 a meal and interactive learning activities for the whole family.  Our date
 s this year are:\nSeptember 24\, 5:30-7pm\, Theme: Welcoming and Belonging
 \nOctober 22 Our Constitution\nNovember 19 All About Trees\nDecember 17 Ma
 sks\, Masks everywhere\nJanuary 21\nFebruary 25\nMarch 25 Week after sprin
 g Break - Theme: Women in History\nApril 22 week after Easter\nMay 20 Last
  week of school\nCommunity Church of the Rockies\, Fellowship Hall instead
  of the Learning Place\n
X-WR-RELCALID:4bea1222ca08c5b34769165f1bd2cfef
X-WR-TIMEZONE:America/Denver
BEGIN:VTIMEZONE
TZID:America/Denver
BEGIN:STANDARD
TZNAME:MST
DTSTART:20241103T020000
TZOFFSETFROM:-0600
TZOFFSETTO:-0700
RDATE:20251102T020000
END:STANDARD
BEGIN:DAYLIGHT
TZNAME:MDT
DTSTART:20240310T020000
TZOFFSETFROM:-0700
TZOFFSETTO:-0600
RDATE:20250309T020000
RDATE:20260308T020000
END:DAYLIGHT
END:VTIMEZONE
BEGIN:VEVENT
UID:c2916496-43e1-4c8f-bb07-05ef2320f40d
DTSTAMP:20260422T235518Z
DESCRIPTION:Family Cafe is a monthly event bringing families together for a
  meal and interactive learning activities for the whole family.  Our dates
  this year are:\nSeptember 24\, 5:30-7pm\, Theme: Welcoming and Belonging
 \nOctober 22 Our Constitution\nNovember 19 All About Trees\nDecember 17 Ma
 sks\, Masks everywhere\nJanuary 21\nFebruary 25\nMarch 25 Week after sprin
 g Break - Theme: Women in History\nApril 22 week after Easter\nMay 20 Last
  week of school\nCommunity Church of the Rockies\, Fellowship Hall instead
  of the Learning Place\n
DTSTART;TZID=America/Denver:20241119T173000
DTEND;TZID=America/Denver:20241119T190000
LOCATION:1700 Brody Street\, Presbyterian Community Church of the Rockies\,
  Estes Park\, CO 80517 US
SUMMARY:Family Cafe
END:VEVENT
END:VCALENDAR
