BEGIN:VCALENDAR
VERSION:2.0
PRODID:-//eplearningplace.org//NONSGML kigkonsult.se iCalcreator 2.30.10//
CALSCALE:GREGORIAN
METHOD:PUBLISH
UID:019c6992-1c2e-425b-b16f-629d79306c66
X-WR-CALDESC:Family Cafe is a monthly event bringing families together for 
 a meal and interactive learning activities for the whole family.  Our date
 s this year are:\nSeptember 24\, 5:30-7pm\, Theme: Welcoming and Belonging
 \nOctober 29\, 5:30-7pm\, Theme: 'Our Constitution'\nNovember 19\, 5:30-7p
 m\, Theme: All about Trees'\nDecember 17\nJanuary 21\nFebruary 25\nMarch 2
 5 Week after spring Break - Theme: Women in History\nApril 22 week after E
 aster\nMay 20 Last week of school\nommunity CHurch of the Rockies\, Fellow
 ship Hall instead of the Learning Place\n
X-WR-RELCALID:fd28eb6a094a99ad3d93bc0d86fb9204
X-WR-TIMEZONE:America/Denver
BEGIN:VTIMEZONE
TZID:America/Denver
BEGIN:STANDARD
TZNAME:MST
DTSTART:20231105T020000
TZOFFSETFROM:-0600
TZOFFSETTO:-0700
RDATE:20241103T020000
RDATE:20251102T020000
END:STANDARD
BEGIN:DAYLIGHT
TZNAME:MDT
DTSTART:20240310T020000
TZOFFSETFROM:-0700
TZOFFSETTO:-0600
RDATE:20250309T020000
RDATE:20260308T020000
END:DAYLIGHT
END:VTIMEZONE
BEGIN:VEVENT
UID:5ccd9180-3b0f-451a-b423-e3b0f0ddd3f4
DTSTAMP:20260423T014040Z
DESCRIPTION:Family Cafe is a monthly event bringing families together for a
  meal and interactive learning activities for the whole family.  Our dates
  this year are:\nSeptember 24\, 5:30-7pm\, Theme: Welcoming and Belonging
 \nOctober 29\, 5:30-7pm\, Theme: 'Our Constitution'\nNovember 19\, 5:30-7p
 m\, Theme: All about Trees'\nDecember 17\nJanuary 21\nFebruary 25\nMarch 2
 5 Week after spring Break - Theme: Women in History\nApril 22 week after E
 aster\nMay 20 Last week of school\nommunity CHurch of the Rockies\, Fellow
 ship Hall instead of the Learning Place\n
DTSTART;TZID=America/Denver:20241029T173000
DTEND;TZID=America/Denver:20241029T190000
LOCATION:1700 Brody Ave\, Presbyterian Community Church of the Rockies\, Es
 tes Park\, CO 80517 US
SUMMARY:Family Cafe
END:VEVENT
END:VCALENDAR
