BEGIN:VCALENDAR
VERSION:2.0
PRODID:-//eplearningplace.org//NONSGML kigkonsult.se iCalcreator 2.30.10//
CALSCALE:GREGORIAN
METHOD:PUBLISH
UID:518c5738-3a27-4068-a22b-7a6fc5d65b35
X-WR-CALDESC:Family Cafe is a monthly event bringing families together for 
 a meal and interactive learning activities for the whole family.  Our date
 s this year are:\nSeptember 24\, 5:30-7pm\, Theme: Welcoming and Belonging
 \nOctober 22\nNovember 19\nDecember 17\nJanuary 21\nFebruary 25\nMarch 25 
 Week after spring Break - Theme: Women in History\nApril 22 week after Eas
 ter\nMay 20 Last week of school\nat the Presbyterian Community CHurch of t
 he Rockies\, Fellowship Hall instead of the Learning Place\n
X-WR-RELCALID:3fc09993d7621a09c0763998d3a29876
X-WR-TIMEZONE:America/Denver
BEGIN:VTIMEZONE
TZID:America/Denver
BEGIN:STANDARD
TZNAME:MST
DTSTART:20231105T020000
TZOFFSETFROM:-0600
TZOFFSETTO:-0700
RDATE:20241103T020000
RDATE:20251102T020000
END:STANDARD
BEGIN:DAYLIGHT
TZNAME:MDT
DTSTART:20240310T020000
TZOFFSETFROM:-0700
TZOFFSETTO:-0600
RDATE:20250309T020000
RDATE:20260308T020000
END:DAYLIGHT
END:VTIMEZONE
BEGIN:VEVENT
UID:1acc54e8-d0a8-4fe8-ad79-e4b3eb646c92
DTSTAMP:20260423T024821Z
DESCRIPTION:Family Cafe is a monthly event bringing families together for a
  meal and interactive learning activities for the whole family.  Our dates
  this year are:\nSeptember 24\, 5:30-7pm\, Theme: Welcoming and Belonging
 \nOctober 22\nNovember 19\nDecember 17\nJanuary 21\nFebruary 25\nMarch 25 
 Week after spring Break - Theme: Women in History\nApril 22 week after Eas
 ter\nMay 20 Last week of school\nat the Presbyterian Community CHurch of t
 he Rockies\, Fellowship Hall instead of the Learning Place\n
DTSTART;TZID=America/Denver:20240924T173000
DTEND;TZID=America/Denver:20240924T190000
LOCATION:1700 Brody Street\, Presbyterian Community Church of the Rockies\,
  Estes Park\, CO 80517 US
SUMMARY:Family Cafe: Theme Welcoming and Belonging
END:VEVENT
END:VCALENDAR
