BEGIN:VCALENDAR
VERSION:2.0
PRODID:-//eplearningplace.org//NONSGML kigkonsult.se iCalcreator 2.30.10//
CALSCALE:GREGORIAN
METHOD:PUBLISH
UID:f66954d1-000f-4e6b-8e15-99606a228b2b
X-WR-CALDESC:Board Meeting in Conference Room at The Learning Place
X-WR-RELCALID:7397d379c5e85413a0d8c969a10309a0
X-WR-TIMEZONE:America/Denver
BEGIN:VTIMEZONE
TZID:America/Denver
BEGIN:STANDARD
TZNAME:MST
DTSTART:20231105T020000
TZOFFSETFROM:-0600
TZOFFSETTO:-0700
RDATE:20241103T020000
RDATE:20251102T020000
END:STANDARD
BEGIN:DAYLIGHT
TZNAME:MDT
DTSTART:20240310T020000
TZOFFSETFROM:-0700
TZOFFSETTO:-0600
RDATE:20250309T020000
RDATE:20260308T020000
END:DAYLIGHT
END:VTIMEZONE
BEGIN:VEVENT
UID:7d71d5e0-063b-46f3-82ad-39d14ebbca8f
DTSTAMP:20260423T025439Z
DESCRIPTION:Board Meeting in Conference Room at The Learning Place
DTSTART;TZID=America/Denver:20240923T160000
DTEND;TZID=America/Denver:20240923T173000
LOCATION:600 S Saint Vrain Ave\, Unit 2\, Estes Park\, CO 80517 US
SUMMARY:EPLP Board of Directors Meeting
END:VEVENT
END:VCALENDAR
