BEGIN:VCALENDAR
VERSION:2.0
PRODID:-//eplearningplace.org//NONSGML kigkonsult.se iCalcreator 2.30.10//
CALSCALE:GREGORIAN
METHOD:PUBLISH
UID:713a332a-4360-4438-a8bc-636958bbcd94
X-WR-CALDESC:American Legion\, Post #119
X-WR-RELCALID:c760e37d8679528924bb593f1a9f7b70
X-WR-TIMEZONE:America/Denver
BEGIN:VTIMEZONE
TZID:America/Denver
BEGIN:STANDARD
TZNAME:MST
DTSTART:20231105T020000
TZOFFSETFROM:-0600
TZOFFSETTO:-0700
RDATE:20241103T020000
RDATE:20251102T020000
END:STANDARD
BEGIN:DAYLIGHT
TZNAME:MDT
DTSTART:20240310T020000
TZOFFSETFROM:-0700
TZOFFSETTO:-0600
RDATE:20250309T020000
RDATE:20260308T020000
END:DAYLIGHT
END:VTIMEZONE
BEGIN:VEVENT
UID:b777eb3d-824f-4d22-a018-fd57e980c69f
DTSTAMP:20260423T025427Z
DESCRIPTION:American Legion\, Post #119
DTSTART;TZID=America/Denver:20240917T173000
DTEND;TZID=America/Denver:20240917T193000
LOCATION:American Legion Post #119\, 850 N St Vrain Ave\,\, Estes Park\, CO
  80517 US
SUMMARY:Citizenship Project Celebration
END:VEVENT
END:VCALENDAR
