BEGIN:VCALENDAR
VERSION:2.0
PRODID:-//eplearningplace.org//NONSGML kigkonsult.se iCalcreator 2.30.10//
CALSCALE:GREGORIAN
METHOD:PUBLISH
UID:d39755ff-7e19-4ee2-a630-a77769e38f5a
X-WR-CALDESC:
X-WR-RELCALID:095a05596420c7423ab1ce1c1c858c3c
X-WR-TIMEZONE:America/Denver
BEGIN:VTIMEZONE
TZID:America/Denver
BEGIN:STANDARD
TZNAME:MST
DTSTART:20231105T020000
TZOFFSETFROM:-0600
TZOFFSETTO:-0700
RDATE:20241103T020000
RDATE:20251102T020000
END:STANDARD
BEGIN:DAYLIGHT
TZNAME:MDT
DTSTART:20240310T020000
TZOFFSETFROM:-0700
TZOFFSETTO:-0600
RDATE:20250309T020000
RDATE:20260308T020000
END:DAYLIGHT
END:VTIMEZONE
BEGIN:VEVENT
UID:aeb887eb-01db-41b9-8f43-c56b50bde0c5
DTSTAMP:20260423T025435Z
DESCRIPTION:
DTSTART;TZID=America/Denver:20240917T040000
DTEND;TZID=America/Denver:20240923T040001
LOCATION:600 S Saint Vrain Ave\, Unit 2\, Estes Park\, CO 80517 US
SUMMARY:Citizenship Day
END:VEVENT
END:VCALENDAR
