BEGIN:VCALENDAR
VERSION:2.0
PRODID:-//eplearningplace.org//NONSGML kigkonsult.se iCalcreator 2.30.10//
CALSCALE:GREGORIAN
METHOD:PUBLISH
UID:58bc0864-54e8-4f56-8cc5-ad59eff4f98e
X-WR-CALDESC:
X-WR-RELCALID:3ab82fe0cf5bae9f1e63ba924e2aab44
X-WR-TIMEZONE:America/Denver
BEGIN:VTIMEZONE
TZID:America/Denver
BEGIN:STANDARD
TZNAME:MST
DTSTART:20231105T020000
TZOFFSETFROM:-0600
TZOFFSETTO:-0700
RDATE:20241103T020000
RDATE:20251102T020000
END:STANDARD
BEGIN:DAYLIGHT
TZNAME:MDT
DTSTART:20240310T020000
TZOFFSETFROM:-0700
TZOFFSETTO:-0600
RDATE:20250309T020000
END:DAYLIGHT
END:VTIMEZONE
BEGIN:VEVENT
UID:2215bdd7-e986-4ed6-aac3-6e82230e3c3a
DTSTAMP:20260423T025158Z
DESCRIPTION:
DTSTART;TZID=America/Denver:20240831T040000
DTEND;TZID=America/Denver:20240902T040001
LOCATION:Bond Park\, Estes Park\, Colorado
SUMMARY:Sunrise Rotary Arts & Crafts Festival: Kids Art Tent
END:VEVENT
END:VCALENDAR
