BEGIN:VCALENDAR
VERSION:2.0
PRODID:-//eplearningplace.org//NONSGML kigkonsult.se iCalcreator 2.30.10//
CALSCALE:GREGORIAN
METHOD:PUBLISH
UID:c2b32b8d-0991-4689-919f-f2d97709466f
X-WR-CALDESC:Estes Park Learning Place Monthly Board of Directors Meeting
X-WR-RELCALID:3c648535d1fefbb1c991dbc8c5b46549
X-WR-TIMEZONE:America/Denver
BEGIN:VTIMEZONE
TZID:America/Denver
BEGIN:STANDARD
TZNAME:MST
DTSTART:20231105T020000
TZOFFSETFROM:-0600
TZOFFSETTO:-0700
RDATE:20241103T020000
RDATE:20251102T020000
END:STANDARD
BEGIN:DAYLIGHT
TZNAME:MDT
DTSTART:20240310T020000
TZOFFSETFROM:-0700
TZOFFSETTO:-0600
RDATE:20250309T020000
END:DAYLIGHT
END:VTIMEZONE
BEGIN:VEVENT
UID:32d57edc-c9ab-4044-8267-ded62e8bb9b4
DTSTAMP:20260425T120953Z
DESCRIPTION:Estes Park Learning Place Monthly Board of Directors Meeting
DTSTART;TZID=America/Denver:20240617T160000
DTEND;TZID=America/Denver:20240617T183000
LOCATION:600 S Saint Vrain Ave\, Unit 2\, Conference Room\, Estes Park\, CO
  80517 US
SUMMARY:EPLP Board Meeting
END:VEVENT
END:VCALENDAR
