BEGIN:VCALENDAR
VERSION:2.0
PRODID:-//eplearningplace.org//NONSGML kigkonsult.se iCalcreator 2.30.10//
CALSCALE:GREGORIAN
METHOD:PUBLISH
UID:fb9b011d-8469-4364-a04f-df260eda8cf3
X-WR-CALDESC:Monthly Staff Meeting
X-WR-RELCALID:821223f196c00a3e7b81746369bd0cf4
X-WR-TIMEZONE:America/Denver
BEGIN:VTIMEZONE
TZID:America/Denver
BEGIN:STANDARD
TZNAME:MST
DTSTART:20231105T020000
TZOFFSETFROM:-0600
TZOFFSETTO:-0700
RDATE:20241103T020000
RDATE:20251102T020000
END:STANDARD
BEGIN:DAYLIGHT
TZNAME:MDT
DTSTART:20240310T020000
TZOFFSETFROM:-0700
TZOFFSETTO:-0600
RDATE:20250309T020000
END:DAYLIGHT
END:VTIMEZONE
BEGIN:VEVENT
UID:59519550-cb2b-46bb-bf1e-1005397546b0
DTSTAMP:20260425T120606Z
DESCRIPTION:Monthly Staff Meeting
DTSTART;TZID=America/Denver:20240617T120000
DTEND;TZID=America/Denver:20240617T130000
LOCATION:600 S Saint Vrain Ave\, Unit 2\, Conference Room\, Estes Park\, CO
  80517 US
SUMMARY:EPLP Staff Meeting
END:VEVENT
END:VCALENDAR
