BEGIN:VCALENDAR
VERSION:2.0
PRODID:-//eplearningplace.org//NONSGML kigkonsult.se iCalcreator 2.30.10//
CALSCALE:GREGORIAN
METHOD:PUBLISH
UID:0ee1b13d-f23f-4b97-a306-e570a5d409d5
X-WR-CALDESC:Estes Park Learning Place Monthly Board of Directors Meeting
X-WR-RELCALID:e8952e059fc143028964a610c26ce9c3
X-WR-TIMEZONE:America/Denver
BEGIN:VTIMEZONE
TZID:America/Denver
BEGIN:STANDARD
TZNAME:MST
DTSTART:20231105T020000
TZOFFSETFROM:-0600
TZOFFSETTO:-0700
RDATE:20241103T020000
RDATE:20251102T020000
END:STANDARD
BEGIN:DAYLIGHT
TZNAME:MDT
DTSTART:20240310T020000
TZOFFSETFROM:-0700
TZOFFSETTO:-0600
RDATE:20250309T020000
END:DAYLIGHT
END:VTIMEZONE
BEGIN:VEVENT
UID:f2b7f045-cc8f-456e-b5d5-2fb7a7b21c7d
DTSTAMP:20260425T135006Z
DESCRIPTION:Estes Park Learning Place Monthly Board of Directors Meeting
DTSTART;TZID=America/Denver:20240520T160000
DTEND;TZID=America/Denver:20240520T183000
LOCATION:600 S Saint Vrain Ave\, Unit 2\, Conference Room\, Estes Park\, CO
  80517 US
SUMMARY:EPLP Board Meeting
END:VEVENT
END:VCALENDAR
