BEGIN:VCALENDAR
VERSION:2.0
PRODID:-//eplearningplace.org//NONSGML kigkonsult.se iCalcreator 2.30.10//
CALSCALE:GREGORIAN
METHOD:PUBLISH
UID:a006ee49-79bb-41c6-a573-72a14e18aaac
X-WR-CALDESC:
X-WR-RELCALID:802e45fc54cfe965d3cdea86c9fa2c78
X-WR-TIMEZONE:America/Denver
BEGIN:VTIMEZONE
TZID:America/Denver
BEGIN:STANDARD
TZNAME:MST
DTSTART:20231105T020000
TZOFFSETFROM:-0600
TZOFFSETTO:-0700
RDATE:20241103T020000
RDATE:20251102T020000
END:STANDARD
BEGIN:DAYLIGHT
TZNAME:MDT
DTSTART:20240310T020000
TZOFFSETFROM:-0700
TZOFFSETTO:-0600
RDATE:20250309T020000
END:DAYLIGHT
END:VTIMEZONE
BEGIN:VEVENT
UID:7f15d97d-c490-45fb-bb81-92f9a24dffdb
DTSTAMP:20260425T134531Z
DESCRIPTION:
DTSTART;TZID=America/Denver:20240508T173000
DTEND;TZID=America/Denver:20240508T200000
LOCATION:Mama Rose's Restaurant\, 338 E Elkhorn Ave\, Estes Park\, CO 80517
  US
SUMMARY:2024 Annual Community Wine Dinner
END:VEVENT
END:VCALENDAR
