BEGIN:VCALENDAR
VERSION:2.0
PRODID:-//eplearningplace.org//NONSGML kigkonsult.se iCalcreator 2.30.10//
CALSCALE:GREGORIAN
METHOD:PUBLISH
UID:58a7c65e-64c1-4844-80ee-6a5c67eb800c
X-WR-CALDESC:The 36th Annual Rotary Duck Race supports Nonprofits in the Es
 tes Valley.  To support the Estes Park Learning Place's work with Kids and
  adults we hope you will consider adopting a Duck ($25) or a Quackpack ($1
 25 for five ducks and get sixth free). $23 from each adoption goes back to
  the Estes Park Learning Place to support student learning. \n\nhttps://ad
 opt.epduckrace.org/products/the-estes-park-learning-place
X-WR-RELCALID:0ab7eb6a3fbc61bc3d50d01a7888f7cc
X-WR-TIMEZONE:America/Denver
BEGIN:VTIMEZONE
TZID:America/Denver
BEGIN:STANDARD
TZNAME:MST
DTSTART:20231105T020000
TZOFFSETFROM:-0600
TZOFFSETTO:-0700
RDATE:20241103T020000
RDATE:20251102T020000
END:STANDARD
BEGIN:DAYLIGHT
TZNAME:MDT
DTSTART:20240310T020000
TZOFFSETFROM:-0700
TZOFFSETTO:-0600
RDATE:20250309T020000
END:DAYLIGHT
END:VTIMEZONE
BEGIN:VEVENT
UID:431d7634-63fc-4189-bf7a-b4013be1f2ec
DTSTAMP:20260425T135159Z
DESCRIPTION:The 36th Annual Rotary Duck Race supports Nonprofits in the Est
 es Valley.  To support the Estes Park Learning Place's work with Kids and 
 adults we hope you will consider adopting a Duck ($25) or a Quackpack ($12
 5 for five ducks and get sixth free). $23 from each adoption goes back to 
 the Estes Park Learning Place to support student learning. \n\nhttps://ado
 pt.epduckrace.org/products/the-estes-park-learning-place
DTSTART;TZID=America/Denver:20240504T040000
DTEND;TZID=America/Denver:20240504T040001
LOCATION:Bond Park\, 170 Macgregor Ave\, Estes Park\, CO 80517 US
SUMMARY:Annual Rotary Duck Race
END:VEVENT
END:VCALENDAR
