BEGIN:VCALENDAR
VERSION:2.0
PRODID:-//eplearningplace.org//NONSGML kigkonsult.se iCalcreator 2.30.10//
CALSCALE:GREGORIAN
METHOD:PUBLISH
UID:05170ed4-2bc5-474f-bc72-2dabc91d8bcf
X-WR-CALDESC:Estes Park Learning Place Monthly Board of Directors Meeting
X-WR-RELCALID:9f1e8cd0bbc02589d55760d58e4695bd
X-WR-TIMEZONE:America/Denver
BEGIN:VTIMEZONE
TZID:America/Denver
BEGIN:STANDARD
TZNAME:MST
DTSTART:20231105T020000
TZOFFSETFROM:-0600
TZOFFSETTO:-0700
RDATE:20241103T020000
END:STANDARD
BEGIN:DAYLIGHT
TZNAME:MDT
DTSTART:20240310T020000
TZOFFSETFROM:-0700
TZOFFSETTO:-0600
RDATE:20250309T020000
END:DAYLIGHT
END:VTIMEZONE
BEGIN:VEVENT
UID:439f5a1b-8be4-450b-8563-edf38de08346
DTSTAMP:20260425T155032Z
DESCRIPTION:Estes Park Learning Place Monthly Board of Directors Meeting
DTSTART;TZID=America/Denver:20240422T160000
DTEND;TZID=America/Denver:20240422T183000
LOCATION:600 S Saint Vrain Ave\, Unit 2\, Conference Room\, Estes Park\, CO
  80517 US
SUMMARY:EPLP Board Meeting
END:VEVENT
END:VCALENDAR
