BEGIN:VCALENDAR
VERSION:2.0
PRODID:-//eplearningplace.org//NONSGML kigkonsult.se iCalcreator 2.30.10//
CALSCALE:GREGORIAN
METHOD:PUBLISH
UID:4bf7c53d-f11a-43d4-8438-914e30def50f
X-WR-CALDESC:Monthly Staff Meeting
X-WR-RELCALID:601f999579bb669525aad63de3cca52a
X-WR-TIMEZONE:America/Denver
BEGIN:VTIMEZONE
TZID:America/Denver
BEGIN:STANDARD
TZNAME:MST
DTSTART:20231105T020000
TZOFFSETFROM:-0600
TZOFFSETTO:-0700
RDATE:20241103T020000
END:STANDARD
BEGIN:DAYLIGHT
TZNAME:MDT
DTSTART:20240310T020000
TZOFFSETFROM:-0700
TZOFFSETTO:-0600
RDATE:20250309T020000
END:DAYLIGHT
END:VTIMEZONE
BEGIN:VEVENT
UID:c7354e83-e96d-4e7a-9bce-927c020f9417
DTSTAMP:20260425T153014Z
DESCRIPTION:Monthly Staff Meeting
DTSTART;TZID=America/Denver:20240422T120000
DTEND;TZID=America/Denver:20240422T130000
LOCATION:600 S Saint Vrain Ave\, Unit 2\, Conference Room\, Estes Park\, CO
  80517 US
SUMMARY:EPLP Staff Meeting
END:VEVENT
END:VCALENDAR
