BEGIN:VCALENDAR
VERSION:2.0
PRODID:-//eplearningplace.org//NONSGML kigkonsult.se iCalcreator 2.30.10//
CALSCALE:GREGORIAN
METHOD:PUBLISH
UID:4ce76815-2b8a-47df-a9c7-0c672d64a305
X-WR-CALDESC:Estes Park Learning Place Monthly Board of Directors Meeting
X-WR-RELCALID:9b7c7294f2259447192080c5e739ca9a
X-WR-TIMEZONE:America/Denver
BEGIN:VTIMEZONE
TZID:America/Denver
BEGIN:STANDARD
TZNAME:MST
DTSTART:20231105T020000
TZOFFSETFROM:-0600
TZOFFSETTO:-0700
RDATE:20241103T020000
END:STANDARD
BEGIN:DAYLIGHT
TZNAME:MDT
DTSTART:20240310T020000
TZOFFSETFROM:-0700
TZOFFSETTO:-0600
RDATE:20250309T020000
END:DAYLIGHT
END:VTIMEZONE
BEGIN:VEVENT
UID:cac08b75-4194-4b46-9481-4a8b1d70e99e
DTSTAMP:20260425T170230Z
DESCRIPTION:Estes Park Learning Place Monthly Board of Directors Meeting
DTSTART;TZID=America/Denver:20240318T160000
DTEND;TZID=America/Denver:20240318T183000
LOCATION:600 S Saint Vrain Ave\, Unit 2\, Conference Room\, Estes Park\, CO
  80517 US
SUMMARY:EPLP Board Meeting
END:VEVENT
END:VCALENDAR
