BEGIN:VCALENDAR
VERSION:2.0
PRODID:-//eplearningplace.org//NONSGML kigkonsult.se iCalcreator 2.30.10//
CALSCALE:GREGORIAN
METHOD:PUBLISH
UID:5eba165e-5442-441e-93dc-44463bd86b1b
X-WR-CALDESC:Monthly Staff Meeting
X-WR-RELCALID:bd70c8da3641297da0177aa56bdfc3a1
X-WR-TIMEZONE:America/Denver
BEGIN:VTIMEZONE
TZID:America/Denver
BEGIN:STANDARD
TZNAME:MST
DTSTART:20231105T020000
TZOFFSETFROM:-0600
TZOFFSETTO:-0700
RDATE:20241103T020000
END:STANDARD
BEGIN:DAYLIGHT
TZNAME:MDT
DTSTART:20240310T020000
TZOFFSETFROM:-0700
TZOFFSETTO:-0600
RDATE:20250309T020000
END:DAYLIGHT
END:VTIMEZONE
BEGIN:VEVENT
UID:5a608895-47da-4dbc-bc6c-9a17b7812e39
DTSTAMP:20260425T171147Z
DESCRIPTION:Monthly Staff Meeting
DTSTART;TZID=America/Denver:20240318T120000
DTEND;TZID=America/Denver:20240318T130000
LOCATION:600 S Saint Vrain Ave\, Unit 2\, Conference Room\, Estes Park\, CO
  80517 US
SUMMARY:EPLP Staff Meeting
END:VEVENT
END:VCALENDAR
