BEGIN:VCALENDAR
VERSION:2.0
PRODID:-//eplearningplace.org//NONSGML kigkonsult.se iCalcreator 2.30.10//
CALSCALE:GREGORIAN
METHOD:PUBLISH
UID:2a72f406-a4f7-4ae0-be57-b32ec64e6ba5
X-WR-CALDESC:Join Us for dinner and intergenerational\, interactive learnin
 g activities for the whole family around the theme of Native Peoples of th
 e Rocky Mountains
X-WR-RELCALID:a6e5a8160f269a6f47162c5ed84840d9
X-WR-TIMEZONE:America/Denver
BEGIN:VTIMEZONE
TZID:America/Denver
BEGIN:STANDARD
TZNAME:MST
DTSTART:20231105T020000
TZOFFSETFROM:-0600
TZOFFSETTO:-0700
RDATE:20241103T020000
END:STANDARD
BEGIN:DAYLIGHT
TZNAME:MDT
DTSTART:20230312T020000
TZOFFSETFROM:-0700
TZOFFSETTO:-0600
RDATE:20240310T020000
RDATE:20250309T020000
END:DAYLIGHT
END:VTIMEZONE
BEGIN:VEVENT
UID:04995fc2-f19c-4dca-89f6-ec17bf714da4
DTSTAMP:20260425T184305Z
DESCRIPTION:Join Us for dinner and intergenerational\, interactive learning
  activities for the whole family around the theme of Native Peoples of the
  Rocky Mountains
DTSTART;TZID=America/Denver:20240227T173000
DTEND;TZID=America/Denver:20240227T190000
LOCATION:600 S Saint Vrain Ave\, Unit 2\, Estes Park\, CO 80517 US
SUMMARY:Family Cafe: Native Peoples of the Rocky Mountains
END:VEVENT
END:VCALENDAR
