BEGIN:VCALENDAR
VERSION:2.0
PRODID:-//eplearningplace.org//NONSGML kigkonsult.se iCalcreator 2.30.10//
CALSCALE:GREGORIAN
METHOD:PUBLISH
UID:ae49d3e4-4077-4286-82ab-4611a3575e8c
X-WR-CALDESC:Turtle's Back Workshops\nAn After School Extended Learning Pro
 gram \nat\nThe Estes Park Learning Place\n\nA small group workshop with up
  to 6 students will be scheduled Monday afternoons each week from 3:30-5:0
 0pm starting on 2/26 at The Estes Park Learning Place. Shirl Lawrence\, a 
 former elementary school teacher with 30+ years of experience\, will be le
 ading the group. \n
X-WR-RELCALID:140326fc0048d769386586392b6ef2f0
X-WR-TIMEZONE:America/Denver
BEGIN:VTIMEZONE
TZID:America/Denver
BEGIN:STANDARD
TZNAME:MST
DTSTART:20231105T020000
TZOFFSETFROM:-0600
TZOFFSETTO:-0700
RDATE:20241103T020000
END:STANDARD
BEGIN:DAYLIGHT
TZNAME:MDT
DTSTART:20230312T020000
TZOFFSETFROM:-0700
TZOFFSETTO:-0600
RDATE:20240310T020000
RDATE:20250309T020000
END:DAYLIGHT
END:VTIMEZONE
BEGIN:VEVENT
UID:2f33c0bf-f656-4a50-9f4a-ec65cc0b5252
DTSTAMP:20260425T185043Z
DESCRIPTION:Turtle's Back Workshops\nAn After School Extended Learning Prog
 ram \nat\nThe Estes Park Learning Place\n\nA small group workshop with up 
 to 6 students will be scheduled Monday afternoons each week from 3:30-5:00
 pm starting on 2/26 at The Estes Park Learning Place. Shirl Lawrence\, a f
 ormer elementary school teacher with 30+ years of experience\, will be lea
 ding the group. \n
DTSTART;TZID=America/Denver:20240226T153000
DTEND;TZID=America/Denver:20240226T170000
LOCATION:The Estes Park Learning Place\, 600 S Saint Vrain Ave\, Unit 2\, E
 stes Park\, CO 80517 US
SUMMARY:Turtle's Back Workshop: The Art of Puppetry
END:VEVENT
END:VCALENDAR
