BEGIN:VCALENDAR
VERSION:2.0
PRODID:-//eplearningplace.org//NONSGML kigkonsult.se iCalcreator 2.30.10//
CALSCALE:GREGORIAN
METHOD:PUBLISH
UID:fe8ca3cf-1bfe-483c-9d88-587595f0dc06
X-WR-CALDESC:Monthly Staff Meeting
X-WR-RELCALID:c3e8d6d5ac59cd3aef56ce7bbcb23c6a
X-WR-TIMEZONE:America/Denver
BEGIN:VTIMEZONE
TZID:America/Denver
BEGIN:STANDARD
TZNAME:MST
DTSTART:20231105T020000
TZOFFSETFROM:-0600
TZOFFSETTO:-0700
RDATE:20241103T020000
END:STANDARD
BEGIN:DAYLIGHT
TZNAME:MDT
DTSTART:20230312T020000
TZOFFSETFROM:-0700
TZOFFSETTO:-0600
RDATE:20240310T020000
RDATE:20250309T020000
END:DAYLIGHT
END:VTIMEZONE
BEGIN:VEVENT
UID:3636a4b6-042b-44aa-aae4-64eac8b14e97
DTSTAMP:20260425T185632Z
DESCRIPTION:Monthly Staff Meeting
DTSTART;TZID=America/Denver:20240212T120000
DTEND;TZID=America/Denver:20240212T130000
LOCATION:600 S Saint Vrain Ave\, Unit 2\, Conference Room\, Estes Park\, CO
  80517 US
SUMMARY:EPLP Staff Meeting
END:VEVENT
END:VCALENDAR
