BEGIN:VCALENDAR
VERSION:2.0
PRODID:-//eplearningplace.org//NONSGML kigkonsult.se iCalcreator 2.30.10//
CALSCALE:GREGORIAN
METHOD:PUBLISH
UID:7900f556-191e-4eeb-8705-15b2a47e03cb
X-WR-CALDESC:Monthly Staff Meeting
X-WR-RELCALID:b23d78cb933724c9a725b6207c03b402
X-WR-TIMEZONE:America/Denver
BEGIN:VTIMEZONE
TZID:America/Denver
BEGIN:STANDARD
TZNAME:MST
DTSTART:20231105T020000
TZOFFSETFROM:-0600
TZOFFSETTO:-0700
RDATE:20241103T020000
END:STANDARD
BEGIN:DAYLIGHT
TZNAME:MDT
DTSTART:20230312T020000
TZOFFSETFROM:-0700
TZOFFSETTO:-0600
RDATE:20240310T020000
RDATE:20250309T020000
END:DAYLIGHT
END:VTIMEZONE
BEGIN:VEVENT
UID:7637a1d5-02cc-4f1b-bd8a-88ff248acc79
DTSTAMP:20260425T220631Z
DESCRIPTION:Monthly Staff Meeting
DTSTART;TZID=America/Denver:20231218T120000
DTEND;TZID=America/Denver:20231218T130000
LOCATION:600 S Saint Vrain Ave\, Unit 2\, Conference Room\, Estes Park\, CO
  80517 US
SUMMARY:EPLP Staff Meeting
END:VEVENT
END:VCALENDAR
