BEGIN:VCALENDAR
VERSION:2.0
PRODID:-//eplearningplace.org//NONSGML kigkonsult.se iCalcreator 2.30.10//
CALSCALE:GREGORIAN
METHOD:PUBLISH
UID:f5a070a7-ec16-454f-9053-6854d065f860
X-WR-CALDESC:Estes Park Learning Place Monthly Board of Directors Meeting
X-WR-RELCALID:69769dc186f87d1408d79dea86b7708b
X-WR-TIMEZONE:America/Denver
BEGIN:VTIMEZONE
TZID:America/Denver
BEGIN:STANDARD
TZNAME:MST
DTSTART:20231105T020000
TZOFFSETFROM:-0600
TZOFFSETTO:-0700
RDATE:20241103T020000
END:STANDARD
BEGIN:DAYLIGHT
TZNAME:MDT
DTSTART:20230312T020000
TZOFFSETFROM:-0700
TZOFFSETTO:-0600
RDATE:20240310T020000
RDATE:20250309T020000
END:DAYLIGHT
END:VTIMEZONE
BEGIN:VEVENT
UID:34e1ba1d-19b2-4e6b-b71e-082182a07fb4
DTSTAMP:20260425T220538Z
DESCRIPTION:Estes Park Learning Place Monthly Board of Directors Meeting
DTSTART;TZID=America/Denver:20231204T161500
DTEND;TZID=America/Denver:20231204T184500
LOCATION:600 S Saint Vrain Ave\, Unit 2\, Conference Room\, Estes Park\, CO
  80517 US
SUMMARY:EPLP Board Meeting by zoom
END:VEVENT
END:VCALENDAR
