BEGIN:VCALENDAR
VERSION:2.0
PRODID:-//eplearningplace.org//NONSGML kigkonsult.se iCalcreator 2.30.10//
CALSCALE:GREGORIAN
METHOD:PUBLISH
UID:db083335-e38b-4ff4-82ef-302438631719
X-WR-CALDESC:Family Cafe is an intergenerational family evening with dinner
  followed by a variety of learning activities around a theme.\nNovember Th
 eme:  Native People of Northern Colorado\nIn honor of Native American Heri
 tage Month\, we are learning about Native Peoples who lived in our area. 
 \nPlease note we will NOT be at the Learning Place\, but instead at the Pr
 esbyterian Community Church of the Rockies.\n\nPlease let us know you are 
 coming and the names of your family by registering Or calling Sue at 308-6
 41-7634
X-WR-RELCALID:1672462359e94bbbf30e4d6a27ea1f03
X-WR-TIMEZONE:America/Denver
BEGIN:VTIMEZONE
TZID:America/Denver
BEGIN:STANDARD
TZNAME:MST
DTSTART:20231105T020000
TZOFFSETFROM:-0600
TZOFFSETTO:-0700
RDATE:20241103T020000
END:STANDARD
BEGIN:DAYLIGHT
TZNAME:MDT
DTSTART:20230312T020000
TZOFFSETFROM:-0700
TZOFFSETTO:-0600
RDATE:20240310T020000
RDATE:20250309T020000
END:DAYLIGHT
END:VTIMEZONE
BEGIN:VEVENT
UID:7f783ec8-e337-4171-8009-cafbcaa58743
DTSTAMP:20260425T233648Z
DESCRIPTION:Family Cafe is an intergenerational family evening with dinner 
 followed by a variety of learning activities around a theme.\nNovember The
 me:  Native People of Northern Colorado\nIn honor of Native American Herit
 age Month\, we are learning about Native Peoples who lived in our area. \n
 Please note we will NOT be at the Learning Place\, but instead at the Pres
 byterian Community Church of the Rockies.\n\nPlease let us know you are co
 ming and the names of your family by registering Or calling Sue at 308-641
 -7634
DTSTART;TZID=America/Denver:20231128T170000
DTEND;TZID=America/Denver:20231128T190000
LOCATION:Presbyterian Community Church of the Rockeis -Fellowship Hall\, 17
 00 Brodie Ave\, Estes Park\, CO 80517 US
SUMMARY:Postponed until January -Family Cafe
END:VEVENT
END:VCALENDAR
