BEGIN:VCALENDAR
VERSION:2.0
PRODID:-//eplearningplace.org//NONSGML kigkonsult.se iCalcreator 2.30.10//
CALSCALE:GREGORIAN
METHOD:PUBLISH
UID:83bc0eed-1cb3-40d2-a25d-148a87d8ae95
X-WR-CALDESC:Family Cafe is an intergenerational family evening with dinner
  followed by a variety of learning activities around a theme.\nOctober's T
 heme is 'Welcoming and Belonging': Learn about welcoming Newcomers to the 
 USA.\n
X-WR-RELCALID:a6797f3577fcbd1554e77c2f4ba304c3
X-WR-TIMEZONE:America/Denver
BEGIN:VTIMEZONE
TZID:America/Denver
BEGIN:STANDARD
TZNAME:MST
DTSTART:20221106T020000
TZOFFSETFROM:-0600
TZOFFSETTO:-0700
RDATE:20231105T020000
RDATE:20241103T020000
END:STANDARD
BEGIN:DAYLIGHT
TZNAME:MDT
DTSTART:20230312T020000
TZOFFSETFROM:-0700
TZOFFSETTO:-0600
RDATE:20240310T020000
RDATE:20250309T020000
END:DAYLIGHT
END:VTIMEZONE
BEGIN:VEVENT
UID:1095d0a8-31f1-46b7-b475-63f4b17f2073
DTSTAMP:20260426T013039Z
DESCRIPTION:Family Cafe is an intergenerational family evening with dinner 
 followed by a variety of learning activities around a theme.\nOctober's Th
 eme is 'Welcoming and Belonging': Learn about welcoming Newcomers to the U
 SA.\n
DTSTART;TZID=America/Denver:20231024T170000
DTEND;TZID=America/Denver:20231024T190000
LOCATION:600 S Saint Vrain Ave\, Unit 2\, Estes Park\, CO 80517 US
SUMMARY:Family Cafe
END:VEVENT
END:VCALENDAR
