BEGIN:VCALENDAR
VERSION:2.0
PRODID:-//eplearningplace.org//NONSGML kigkonsult.se iCalcreator 2.30.10//
CALSCALE:GREGORIAN
METHOD:PUBLISH
UID:7ad45d19-3b0f-4155-86b0-24732e994950
X-WR-CALDESC:Come help kids create Arts and Crafts!
X-WR-RELCALID:bce46641437e11c82e70780b38eb462b
X-WR-TIMEZONE:America/Denver
BEGIN:VTIMEZONE
TZID:America/Denver
BEGIN:STANDARD
TZNAME:MST
DTSTART:20221106T020000
TZOFFSETFROM:-0600
TZOFFSETTO:-0700
RDATE:20231105T020000
RDATE:20241103T020000
END:STANDARD
BEGIN:DAYLIGHT
TZNAME:MDT
DTSTART:20230312T020000
TZOFFSETFROM:-0700
TZOFFSETTO:-0600
RDATE:20240310T020000
END:DAYLIGHT
END:VTIMEZONE
BEGIN:VEVENT
UID:47933fc4-a570-4f31-9ba9-a6a9ab1f45c6
DTSTAMP:20260426T031923Z
DESCRIPTION:Come help kids create Arts and Crafts!
DTSTART;TZID=America/Denver:20230901T000000
DTEND;TZID=America/Denver:20230904T235900
LOCATION:Sunrise Rotary Arts & Crafts Festival @ Bond Park
SUMMARY:Volunteer Opportunity: Kid's Arts & Crafts Tent
END:VEVENT
END:VCALENDAR
